BEGIN:VCALENDAR
VERSION:2.0
PRODID:-//RainbowLight Creations - ECPv6.15.20//NONSGML v1.0//EN
CALSCALE:GREGORIAN
METHOD:PUBLISH
X-WR-CALNAME:RainbowLight Creations
X-ORIGINAL-URL:https://www.rainbowlightcreations.com
X-WR-CALDESC:Events for RainbowLight Creations
REFRESH-INTERVAL;VALUE=DURATION:PT1H
X-Robots-Tag:noindex
X-PUBLISHED-TTL:PT1H
BEGIN:VTIMEZONE
TZID:America/Phoenix
BEGIN:STANDARD
TZOFFSETFROM:-0700
TZOFFSETTO:-0700
TZNAME:MST
DTSTART:20240101T000000
END:STANDARD
END:VTIMEZONE
BEGIN:VEVENT
DTSTART;TZID=America/Phoenix:20250322T080000
DTEND;TZID=America/Phoenix:20250322T200000
DTSTAMP:20260423T044854
CREATED:20250221T175530Z
LAST-MODIFIED:20250221T175742Z
UID:4931-1742630400-1742673600@www.rainbowlightcreations.com
SUMMARY:Group Remote Healing with Amy LaLicata
DESCRIPTION:“Group Remote Healing” Alex offers Group Remote Healing Sessions to nurture\, support and bring healing to all aspects of one’s life.  This global service is offered remotely to anyone in the world and can assist you and your loved ones physically\, emotionally\, mentally and spiritually.  Many individuals utilize the group remote sessions on a regular basis to accelerate their overall healing process.  You may register yourself\, a loved one or animal companion for a nominal fee of $25 per individual.   On the scheduled event date\, starting in the morning\, Alex will focus sending healing energies and prayers for ten (10) minutes to every recipient.  In addition to their ten minutes\, as a participant of the group\, every individual will continue to benefit in the general healing energies that Alex gives to all in that day’s group.  The recipient(s) need not do anything special.  Simply ‘know’ that you\, your loved ones\, and animal companions will receive these divine energies for a better\, healthier and enlightening way of life! REGISTER NOW
URL:https://www.rainbowlightcreations.com/event/group-remote-healing-with-amy-lalicata-2/
CATEGORIES:Remote Session
ATTACH;FMTTYPE=image/png:https://www.rainbowlightcreations.com/wp-content/uploads/2021/10/Screen-Shot-2020-11-18-at-10.16.26-AM.png
END:VEVENT
BEGIN:VEVENT
DTSTART;TZID=America/Phoenix:20250419T080000
DTEND;TZID=America/Phoenix:20250419T200000
DTSTAMP:20260423T044854
CREATED:20250221T180107Z
LAST-MODIFIED:20250221T180139Z
UID:4936-1745049600-1745092800@www.rainbowlightcreations.com
SUMMARY:Group Remote Healing with Amy LaLicata
DESCRIPTION:“Group Remote Healing” Alex offers Group Remote Healing Sessions to nurture\, support and bring healing to all aspects of one’s life.  This global service is offered remotely to anyone in the world and can assist you and your loved ones physically\, emotionally\, mentally and spiritually.  Many individuals utilize the group remote sessions on a regular basis to accelerate their overall healing process.  You may register yourself\, a loved one or animal companion for a nominal fee of $25 per individual.   On the scheduled event date\, starting in the morning\, Alex will focus sending healing energies and prayers for ten (10) minutes to every recipient.  In addition to their ten minutes\, as a participant of the group\, every individual will continue to benefit in the general healing energies that Alex gives to all in that day’s group.  The recipient(s) need not do anything special.  Simply ‘know’ that you\, your loved ones\, and animal companions will receive these divine energies for a better\, healthier and enlightening way of life! REGISTER NOW
URL:https://www.rainbowlightcreations.com/event/group-remote-healing-with-amy-lalicata-3/
CATEGORIES:Remote Session
ATTACH;FMTTYPE=image/png:https://www.rainbowlightcreations.com/wp-content/uploads/2021/10/Screen-Shot-2020-11-18-at-10.16.26-AM.png
END:VEVENT
BEGIN:VEVENT
DTSTART;TZID=America/Phoenix:20250510T080000
DTEND;TZID=America/Phoenix:20250510T200000
DTSTAMP:20260423T044854
CREATED:20250415T215606Z
LAST-MODIFIED:20250415T215730Z
UID:5554-1746864000-1746907200@www.rainbowlightcreations.com
SUMMARY:Group Remote Healing with Amy LaLicata
DESCRIPTION:“Group Remote Healing” Alex offers Group Remote Healing Sessions to nurture\, support and bring healing to all aspects of one’s life.  This global service is offered remotely to anyone in the world and can assist you and your loved ones physically\, emotionally\, mentally and spiritually.  Many individuals utilize the group remote sessions on a regular basis to accelerate their overall healing process.  You may register yourself\, a loved one or animal companion for a nominal fee of $25 per individual.   On the scheduled event date\, starting in the morning\, Alex will focus sending healing energies and prayers for ten (10) minutes to every recipient.  In addition to their ten minutes\, as a participant of the group\, every individual will continue to benefit in the general healing energies that Alex gives to all in that day’s group.  The recipient(s) need not do anything special.  Simply ‘know’ that you\, your loved ones\, and animal companions will receive these divine energies for a better\, healthier and enlightening way of life! REGISTER NOW
URL:https://www.rainbowlightcreations.com/event/group-remote-healing-with-amy-lalicata-4/
CATEGORIES:Remote Session
ATTACH;FMTTYPE=image/png:https://www.rainbowlightcreations.com/wp-content/uploads/2021/10/Screen-Shot-2020-11-18-at-10.16.26-AM.png
END:VEVENT
BEGIN:VEVENT
DTSTART;TZID=America/Phoenix:20251011T080000
DTEND;TZID=America/Phoenix:20251011T200000
DTSTAMP:20260423T044854
CREATED:20250808T232337Z
LAST-MODIFIED:20250919T233026Z
UID:5747-1760169600-1760212800@www.rainbowlightcreations.com
SUMMARY:Group Remote Healing with Amy LaLicata
DESCRIPTION:“Group Remote Healing” Alex offers Group Remote Healing Sessions to nurture\, support and bring healing to all aspects of one’s life.  This global service is offered remotely to anyone in the world and can assist you and your loved ones physically\, emotionally\, mentally and spiritually.  Many individuals utilize the group remote sessions on a regular basis to accelerate their overall healing process.  You may register yourself\, a loved one or animal companion for a nominal fee of $25 per individual.   On the scheduled event date\, starting in the morning\, Alex will focus sending healing energies and prayers for ten (10) minutes to every recipient.  In addition to their ten minutes\, as a participant of the group\, every individual will continue to benefit in the general healing energies that Alex gives to all in that day’s group.  The recipient(s) need not do anything special.  Simply ‘know’ that you\, your loved ones\, and animal companions will receive these divine energies for a better\, healthier and enlightening way of life! REGISTER NOW
URL:https://www.rainbowlightcreations.com/event/group-remote-healing-with-amy-lalicata-6/
CATEGORIES:Remote Session
ATTACH;FMTTYPE=image/png:https://www.rainbowlightcreations.com/wp-content/uploads/2021/10/Screen-Shot-2020-11-18-at-10.16.26-AM.png
END:VEVENT
BEGIN:VEVENT
DTSTART;TZID=America/Phoenix:20260403T080000
DTEND;TZID=America/Phoenix:20260403T200000
DTSTAMP:20260423T044854
CREATED:20250627T214049Z
LAST-MODIFIED:20260329T225356Z
UID:5676-1775203200-1775246400@www.rainbowlightcreations.com
SUMMARY:Group Remote Healing with Amy LaLicata
DESCRIPTION:“Group Remote Healing” Alex offers Group Remote Healing Sessions to nurture\, support and bring healing to all aspects of one’s life.  This global service is offered remotely to anyone in the world and can assist you and your loved ones physically\, emotionally\, mentally and spiritually.  Many individuals utilize the group remote sessions on a regular basis to accelerate their overall healing process.  You may register yourself\, a loved one or animal companion for a nominal fee of $25 per individual.   On the scheduled event date\, starting in the morning\, Alex will focus sending healing energies and prayers for ten (10) minutes to every recipient.  In addition to their ten minutes\, as a participant of the group\, every individual will continue to benefit in the general healing energies that Alex gives to all in that day’s group.  The recipient(s) need not do anything special.  Simply ‘know’ that you\, your loved ones\, and animal companions will receive these divine energies for a better\, healthier and enlightening way of life! REGISTER NOW
URL:https://www.rainbowlightcreations.com/event/group-remote-healing-with-amy-lalicata-5/
CATEGORIES:Remote Session
ATTACH;FMTTYPE=image/png:https://www.rainbowlightcreations.com/wp-content/uploads/2021/10/Screen-Shot-2020-11-18-at-10.16.26-AM.png
END:VEVENT
BEGIN:VEVENT
DTSTART;TZID=America/Phoenix:20260417T080000
DTEND;TZID=America/Phoenix:20260417T200000
DTSTAMP:20260423T044854
CREATED:20260121T235028Z
LAST-MODIFIED:20260329T225646Z
UID:5934-1776412800-1776456000@www.rainbowlightcreations.com
SUMMARY:Group Remote Healing with Amy LaLicata
DESCRIPTION:“Group Remote Healing” Alex offers Group Remote Healing Sessions to nurture\, support and bring healing to all aspects of one’s life.  This global service is offered remotely to anyone in the world and can assist you and your loved ones physically\, emotionally\, mentally and spiritually.  Many individuals utilize the group remote sessions on a regular basis to accelerate their overall healing process.  You may register yourself\, a loved one or animal companion for a nominal fee of $25 per individual.   On the scheduled event date\, starting in the morning\, Alex will focus sending healing energies and prayers for ten (10) minutes to every recipient.  In addition to their ten minutes\, as a participant of the group\, every individual will continue to benefit in the general healing energies that Alex gives to all in that day’s group.  The recipient(s) need not do anything special.  Simply ‘know’ that you\, your loved ones\, and animal companions will receive these divine energies for a better\, healthier and enlightening way of life! REGISTER NOW
URL:https://www.rainbowlightcreations.com/event/group-remote-healing-with-amy-lalicata-7/
CATEGORIES:Remote Session
ATTACH;FMTTYPE=image/png:https://www.rainbowlightcreations.com/wp-content/uploads/2021/10/Screen-Shot-2020-11-18-at-10.16.26-AM.png
END:VEVENT
BEGIN:VEVENT
DTSTART;TZID=America/Phoenix:20260425T080000
DTEND;TZID=America/Phoenix:20260425T200000
DTSTAMP:20260423T044854
CREATED:20260422T222443Z
LAST-MODIFIED:20260422T222610Z
UID:6151-1777104000-1777147200@www.rainbowlightcreations.com
SUMMARY:Group Remote Healing with Amy LaLicata
DESCRIPTION:“Group Remote Healing” Alex offers Group Remote Healing Sessions to nurture\, support and bring healing to all aspects of one’s life.  This global service is offered remotely to anyone in the world and can assist you and your loved ones physically\, emotionally\, mentally and spiritually.  Many individuals utilize the group remote sessions on a regular basis to accelerate their overall healing process.  You may register yourself\, a loved one or animal companion for a nominal fee of $25 per individual.   On the scheduled event date\, starting in the morning\, Alex will focus sending healing energies and prayers for ten (10) minutes to every recipient.  In addition to their ten minutes\, as a participant of the group\, every individual will continue to benefit in the general healing energies that Alex gives to all in that day’s group.  The recipient(s) need not do anything special.  Simply ‘know’ that you\, your loved ones\, and animal companions will receive these divine energies for a better\, healthier and enlightening way of life! REGISTER NOW
URL:https://www.rainbowlightcreations.com/event/group-remote-healing-with-amy-lalicata-8/
CATEGORIES:Remote Session
ATTACH;FMTTYPE=image/png:https://www.rainbowlightcreations.com/wp-content/uploads/2021/10/Screen-Shot-2020-11-18-at-10.16.26-AM.png
END:VEVENT
BEGIN:VEVENT
DTSTART;TZID=America/Phoenix:20260509T080000
DTEND;TZID=America/Phoenix:20260509T200000
DTSTAMP:20260423T044854
CREATED:20260422T224403Z
LAST-MODIFIED:20260422T224446Z
UID:6156-1778313600-1778356800@www.rainbowlightcreations.com
SUMMARY:Group Remote Healing with Amy LaLicata
DESCRIPTION:“Group Remote Healing” Alex offers Group Remote Healing Sessions to nurture\, support and bring healing to all aspects of one’s life.  This global service is offered remotely to anyone in the world and can assist you and your loved ones physically\, emotionally\, mentally and spiritually.  Many individuals utilize the group remote sessions on a regular basis to accelerate their overall healing process.  You may register yourself\, a loved one or animal companion for a nominal fee of $25 per individual.   On the scheduled event date\, starting in the morning\, Alex will focus sending healing energies and prayers for ten (10) minutes to every recipient.  In addition to their ten minutes\, as a participant of the group\, every individual will continue to benefit in the general healing energies that Alex gives to all in that day’s group.  The recipient(s) need not do anything special.  Simply ‘know’ that you\, your loved ones\, and animal companions will receive these divine energies for a better\, healthier and enlightening way of life! REGISTER NOW
URL:https://www.rainbowlightcreations.com/event/group-remote-healing-with-amy-lalicata-9/
CATEGORIES:Remote Session
ATTACH;FMTTYPE=image/png:https://www.rainbowlightcreations.com/wp-content/uploads/2021/10/Screen-Shot-2020-11-18-at-10.16.26-AM.png
END:VEVENT
END:VCALENDAR